BEGIN:VCALENDAR
VERSION:2.0
PRODID:-//The Buffalo Bicycling Club - ECPv6.15.12.2//NONSGML v1.0//EN
CALSCALE:GREGORIAN
METHOD:PUBLISH
X-WR-CALNAME:The Buffalo Bicycling Club
X-ORIGINAL-URL:https://www.buffalobicyclingclub.com
X-WR-CALDESC:Events for The Buffalo Bicycling Club
REFRESH-INTERVAL;VALUE=DURATION:PT1H
X-Robots-Tag:noindex
X-PUBLISHED-TTL:PT1H
BEGIN:VTIMEZONE
TZID:America/New_York
BEGIN:DAYLIGHT
TZOFFSETFROM:-0500
TZOFFSETTO:-0400
TZNAME:EDT
DTSTART:20200308T070000
END:DAYLIGHT
BEGIN:STANDARD
TZOFFSETFROM:-0400
TZOFFSETTO:-0500
TZNAME:EST
DTSTART:20201101T060000
END:STANDARD
BEGIN:DAYLIGHT
TZOFFSETFROM:-0500
TZOFFSETTO:-0400
TZNAME:EDT
DTSTART:20210314T070000
END:DAYLIGHT
BEGIN:STANDARD
TZOFFSETFROM:-0400
TZOFFSETTO:-0500
TZNAME:EST
DTSTART:20211107T060000
END:STANDARD
BEGIN:DAYLIGHT
TZOFFSETFROM:-0500
TZOFFSETTO:-0400
TZNAME:EDT
DTSTART:20220313T070000
END:DAYLIGHT
BEGIN:STANDARD
TZOFFSETFROM:-0400
TZOFFSETTO:-0500
TZNAME:EST
DTSTART:20221106T060000
END:STANDARD
END:VTIMEZONE
BEGIN:VEVENT
DTSTART;TZID=America/New_York:20210826T183000
DTEND;TZID=America/New_York:20210826T200000
DTSTAMP:20260423T152412
CREATED:20210804T114756Z
LAST-MODIFIED:20210804T120220Z
UID:1587-1630002600-1630008000@www.buffalobicyclingclub.com
SUMMARY:BBC vs BTC Time Trial Challenge in memory of Glenn Hansen
DESCRIPTION:Details: $10 registration fee. ALL proceeds go to benefit Roswell Park Cancer Hospital. Registration will be open from 5:30 – 6:30pm. Start time is 6:30. Riders will start at 1 minute intervals. No USAC license required. If you are not a member of either club please just show up and pick the team that you want to ride for.\n\n\nCategories: “Open” TT bike and aero gear is allowed. “Cannibal” meaning no aero gear (Maximum wheel depth permitted: 60mm). “Masters 50+”  riders must be <50 y/o. \n\n\nMen’s Open\nMen’s Cannibal\nMen’s Masters 50+\nWomen’s Open\nWomen’s Cannibal\nWomen’s Masters 50+\n\n\n  \nScoring: Points will be awarded to all riders in each category. Total points will determine the overall club winner! Scoring will be in a “snake draft” format. i.e. Number of entries in each category = number of points for first and count down to last. \n  \n\nExample: If we get 25 in one category\,\n1st = 25pt\, 2nd = 24pt\, 3rd = 23pt\, etc. etc… 25th = 1pt. \n  \nBonus points will be award to the top 3 in each category: 1st = 4pt\, 2nd = 2pt\, 3rd = 1pt \n\n  \n\nCourse: Traditional BBC Grand Island ITT. 20k (12.5 miles)\, flat\, out and back along West River Rd. https://www.buffalobicyclingclub.com/grand-island/ \n\n  \nParking: GP50\, 2770 Long Road\, Grand Island\, NY 14072. There will be a portapotty in the back for riders to use. Please be respectful of the event space so we can continue to use the venue. \n  \n\nAgain all proceeds go to Roswell in memory of one of the BBC’s legendary TT specialists Glenn Hansen. The annual trophy will be awarded for the overall club winner!
URL:https://www.buffalobicyclingclub.com/event/bbc-vs-btc-time-trial-challenge-in-memory-of-glenn-hansen/
LOCATION:GP50\, 2770 Long Rd.\, Grand Island\, NY\, 14072
END:VEVENT
END:VCALENDAR