BEGIN:VCALENDAR
VERSION:2.0
PRODID:-//The Buffalo Bicycling Club - ECPv6.15.12.2//NONSGML v1.0//EN
CALSCALE:GREGORIAN
METHOD:PUBLISH
X-WR-CALNAME:The Buffalo Bicycling Club
X-ORIGINAL-URL:https://www.buffalobicyclingclub.com
X-WR-CALDESC:Events for The Buffalo Bicycling Club
REFRESH-INTERVAL;VALUE=DURATION:PT1H
X-Robots-Tag:noindex
X-PUBLISHED-TTL:PT1H
BEGIN:VTIMEZONE
TZID:America/New_York
BEGIN:DAYLIGHT
TZOFFSETFROM:-0500
TZOFFSETTO:-0400
TZNAME:EDT
DTSTART:20200308T070000
END:DAYLIGHT
BEGIN:STANDARD
TZOFFSETFROM:-0400
TZOFFSETTO:-0500
TZNAME:EST
DTSTART:20201101T060000
END:STANDARD
BEGIN:DAYLIGHT
TZOFFSETFROM:-0500
TZOFFSETTO:-0400
TZNAME:EDT
DTSTART:20210314T070000
END:DAYLIGHT
BEGIN:STANDARD
TZOFFSETFROM:-0400
TZOFFSETTO:-0500
TZNAME:EST
DTSTART:20211107T060000
END:STANDARD
BEGIN:DAYLIGHT
TZOFFSETFROM:-0500
TZOFFSETTO:-0400
TZNAME:EDT
DTSTART:20220313T070000
END:DAYLIGHT
BEGIN:STANDARD
TZOFFSETFROM:-0400
TZOFFSETTO:-0500
TZNAME:EST
DTSTART:20221106T060000
END:STANDARD
END:VTIMEZONE
BEGIN:VEVENT
DTSTART;VALUE=DATE:20210828
DTEND;VALUE=DATE:20210829
DTSTAMP:20260423T152319
CREATED:20210317T141109Z
LAST-MODIFIED:20210317T141109Z
UID:1540-1630108800-1630195199@www.buffalobicyclingclub.com
SUMMARY:East Arcade Road Race (USAC)
DESCRIPTION:A USA Cycling sanctioned road race. Details coming soon. \nParking:\n6785 E Arcade Rd\, Arcade\, NY 14009
URL:https://www.buffalobicyclingclub.com/event/east-arcade-road-race-usac/
LOCATION:East Arcade RR\, 6785 E Arcade Rd\, Arcade\, NY\, 14009
ORGANIZER;CN="James Thompson":MAILTO:president@buffalobicycling.com
END:VEVENT
END:VCALENDAR