BEGIN:VCALENDAR
VERSION:2.0
PRODID:-//The Buffalo Bicycling Club - ECPv6.15.12.2//NONSGML v1.0//EN
CALSCALE:GREGORIAN
METHOD:PUBLISH
X-WR-CALNAME:The Buffalo Bicycling Club
X-ORIGINAL-URL:https://www.buffalobicyclingclub.com
X-WR-CALDESC:Events for The Buffalo Bicycling Club
REFRESH-INTERVAL;VALUE=DURATION:PT1H
X-Robots-Tag:noindex
X-PUBLISHED-TTL:PT1H
BEGIN:VTIMEZONE
TZID:America/New_York
BEGIN:DAYLIGHT
TZOFFSETFROM:-0500
TZOFFSETTO:-0400
TZNAME:EDT
DTSTART:20210314T070000
END:DAYLIGHT
BEGIN:STANDARD
TZOFFSETFROM:-0400
TZOFFSETTO:-0500
TZNAME:EST
DTSTART:20211107T060000
END:STANDARD
BEGIN:DAYLIGHT
TZOFFSETFROM:-0500
TZOFFSETTO:-0400
TZNAME:EDT
DTSTART:20220313T070000
END:DAYLIGHT
BEGIN:STANDARD
TZOFFSETFROM:-0400
TZOFFSETTO:-0500
TZNAME:EST
DTSTART:20221106T060000
END:STANDARD
BEGIN:DAYLIGHT
TZOFFSETFROM:-0500
TZOFFSETTO:-0400
TZNAME:EDT
DTSTART:20230312T070000
END:DAYLIGHT
BEGIN:STANDARD
TZOFFSETFROM:-0400
TZOFFSETTO:-0500
TZNAME:EST
DTSTART:20231105T060000
END:STANDARD
END:VTIMEZONE
BEGIN:VEVENT
DTSTART;TZID=America/New_York:20220423T100000
DTEND;TZID=America/New_York:20220423T120000
DTSTAMP:20260423T201734
CREATED:20220408T085638Z
LAST-MODIFIED:20220408T085751Z
UID:1838-1650708000-1650715200@www.buffalobicyclingclub.com
SUMMARY:Larry Reade Memorial Service
DESCRIPTION:The Reade family welcomes you to a celebration of the life and cycling legacy of Larry Reade\, who passed away on February 2nd.  Larry was instrumental in the incorporation of the BBC in the early 1970s\, and won 11 US National Championships.  He was also a cycling advocate\, event promoter\, mentor\, historian\, tourist and dedicated commuter with a passion for cycling and getting more people on bikes.  Please bring your favorite memories of Larry to share with Barb and the Reade family at 10:00AM on Saturday\, April 23rd to:\n\n\nUnitarian Universalist Church of Amherst\n6320 Main St\, Williamsville\, NY 14221\n\n\nThere will also be a memorial ride the following day\, Sunday April 24th\, in conjunction with the NFBC.\n=============\n\n\n  \n\n\n\nmike reade\nmobile 817.578.0531 \nhome 817.573.6453
URL:https://www.buffalobicyclingclub.com/event/larry-reade-memorial-service/
LOCATION:Unitarian Universalist Church of Amherst\, 6320 Main Street\, Williamsville\, NY\, 14221
ATTACH;FMTTYPE=image/png:https://www.buffalobicyclingclub.com/wp-content/uploads/2022/03/Screen-Shot-2022-03-28-at-7.03.46-PM.png
END:VEVENT
END:VCALENDAR