BEGIN:VCALENDAR
VERSION:2.0
PRODID:-//The Buffalo Bicycling Club - ECPv6.15.12.2//NONSGML v1.0//EN
CALSCALE:GREGORIAN
METHOD:PUBLISH
X-ORIGINAL-URL:https://www.buffalobicyclingclub.com
X-WR-CALDESC:Events for The Buffalo Bicycling Club
REFRESH-INTERVAL;VALUE=DURATION:PT1H
X-Robots-Tag:noindex
X-PUBLISHED-TTL:PT1H
BEGIN:VTIMEZONE
TZID:America/New_York
BEGIN:DAYLIGHT
TZOFFSETFROM:-0500
TZOFFSETTO:-0400
TZNAME:EDT
DTSTART:20210314T070000
END:DAYLIGHT
BEGIN:STANDARD
TZOFFSETFROM:-0400
TZOFFSETTO:-0500
TZNAME:EST
DTSTART:20211107T060000
END:STANDARD
BEGIN:DAYLIGHT
TZOFFSETFROM:-0500
TZOFFSETTO:-0400
TZNAME:EDT
DTSTART:20220313T070000
END:DAYLIGHT
BEGIN:STANDARD
TZOFFSETFROM:-0400
TZOFFSETTO:-0500
TZNAME:EST
DTSTART:20221106T060000
END:STANDARD
BEGIN:DAYLIGHT
TZOFFSETFROM:-0500
TZOFFSETTO:-0400
TZNAME:EDT
DTSTART:20230312T070000
END:DAYLIGHT
BEGIN:STANDARD
TZOFFSETFROM:-0400
TZOFFSETTO:-0500
TZNAME:EST
DTSTART:20231105T060000
END:STANDARD
END:VTIMEZONE
BEGIN:VEVENT
DTSTART;TZID=America/New_York:20220424T100000
DTEND;TZID=America/New_York:20220424T120000
DTSTAMP:20260423T201833
CREATED:20220328T230851Z
LAST-MODIFIED:20220408T090124Z
UID:1817-1650794400-1650801600@www.buffalobicyclingclub.com
SUMMARY:Larry Reade Memorial Group Ride
DESCRIPTION:The BBC and NFBC are collaborating on a group ride to celebrate the life and legacy of Larry Reade. Any BBC or NFBC member may participate. The ride will follow an NFBC route: Lockport-Middleport nearing Larry’s hometown of Barker\, NY.  Serendipity finds this route on this day to be flat\, short (21 or 31 miles) and therefore conducive to a social pace – a parade of sorts – for at least the first 13.2 miles\, when the routes split and people can do their own thing.  (to allow those who might do this ride to celebrate the life of LR with friends but also want something resembling training). The conversation and storytelling can continue after the split if you like\, or back in the parking lot! Full Route can be found on Strava here. 
URL:https://www.buffalobicyclingclub.com/event/larry-reade-memorial-group-ride/
LOCATION:Widewaters Marina\, 768 E Market St\, Lockport\, NY\, 14094
ATTACH;FMTTYPE=image/png:https://www.buffalobicyclingclub.com/wp-content/uploads/2022/03/Screen-Shot-2022-04-08-at-4.53.51-AM.png
ORGANIZER;CN="James Thompson":MAILTO:president@buffalobicycling.com
END:VEVENT
END:VCALENDAR