BEGIN:VCALENDAR
VERSION:2.0
PRODID:-//The Buffalo Bicycling Club - ECPv6.15.12.2//NONSGML v1.0//EN
CALSCALE:GREGORIAN
METHOD:PUBLISH
X-ORIGINAL-URL:https://www.buffalobicyclingclub.com
X-WR-CALDESC:Events for The Buffalo Bicycling Club
REFRESH-INTERVAL;VALUE=DURATION:PT1H
X-Robots-Tag:noindex
X-PUBLISHED-TTL:PT1H
BEGIN:VTIMEZONE
TZID:America/New_York
BEGIN:DAYLIGHT
TZOFFSETFROM:-0500
TZOFFSETTO:-0400
TZNAME:EDT
DTSTART:20200308T070000
END:DAYLIGHT
BEGIN:STANDARD
TZOFFSETFROM:-0400
TZOFFSETTO:-0500
TZNAME:EST
DTSTART:20201101T060000
END:STANDARD
BEGIN:DAYLIGHT
TZOFFSETFROM:-0500
TZOFFSETTO:-0400
TZNAME:EDT
DTSTART:20210314T070000
END:DAYLIGHT
BEGIN:STANDARD
TZOFFSETFROM:-0400
TZOFFSETTO:-0500
TZNAME:EST
DTSTART:20211107T060000
END:STANDARD
BEGIN:DAYLIGHT
TZOFFSETFROM:-0500
TZOFFSETTO:-0400
TZNAME:EDT
DTSTART:20220313T070000
END:DAYLIGHT
BEGIN:STANDARD
TZOFFSETFROM:-0400
TZOFFSETTO:-0500
TZNAME:EST
DTSTART:20221106T060000
END:STANDARD
END:VTIMEZONE
BEGIN:VEVENT
DTSTART;TZID=America/New_York:20211002T110000
DTEND;TZID=America/New_York:20211002T140000
DTSTAMP:20260423T163816
CREATED:20210909T093105Z
LAST-MODIFIED:20210909T093105Z
UID:1608-1633172400-1633183200@www.buffalobicyclingclub.com
SUMMARY:Banquet Group Ride & Cookout
DESCRIPTION:The annual club Banquet and group ride is scheduled for Saturday\, Oct 2nd\, 2021 at 11:00am. We will be meeting at Tim Williams farm. Tim has been the VP of the BBC and a USAC official for over a decade and has been kind enough to host the banquet. This casual no drop group ride will begin at 11:00am. Post ride\, there will be a cookout and award ceremony to celebrate another successful year of bicycle racing in Buffalo. \nThe banquet will also serve as the club’s October monthly meeting. If you would like to run for an officer or director position of the club in 2022\, you will need to notify membership at this meeting. For more information on the banquet\, email: president@buffalobicycling.com  \nGroup ride route will be posted soon…
URL:https://www.buffalobicyclingclub.com/event/banquet-group-ride-cookout/
LOCATION:Tim Williams\, 13386 Bear Road\, Cowlesville\, 14037\, United States
ORGANIZER;CN="James Thompson":MAILTO:president@buffalobicycling.com
END:VEVENT
END:VCALENDAR