BEGIN:VCALENDAR
VERSION:2.0
PRODID:-//The Buffalo Bicycling Club - ECPv6.15.12.2//NONSGML v1.0//EN
CALSCALE:GREGORIAN
METHOD:PUBLISH
X-WR-CALNAME:The Buffalo Bicycling Club
X-ORIGINAL-URL:https://www.buffalobicyclingclub.com
X-WR-CALDESC:Events for The Buffalo Bicycling Club
REFRESH-INTERVAL;VALUE=DURATION:PT1H
X-Robots-Tag:noindex
X-PUBLISHED-TTL:PT1H
BEGIN:VTIMEZONE
TZID:America/New_York
BEGIN:DAYLIGHT
TZOFFSETFROM:-0500
TZOFFSETTO:-0400
TZNAME:EDT
DTSTART:20210314T070000
END:DAYLIGHT
BEGIN:STANDARD
TZOFFSETFROM:-0400
TZOFFSETTO:-0500
TZNAME:EST
DTSTART:20211107T060000
END:STANDARD
BEGIN:DAYLIGHT
TZOFFSETFROM:-0500
TZOFFSETTO:-0400
TZNAME:EDT
DTSTART:20220313T070000
END:DAYLIGHT
BEGIN:STANDARD
TZOFFSETFROM:-0400
TZOFFSETTO:-0500
TZNAME:EST
DTSTART:20221106T060000
END:STANDARD
BEGIN:DAYLIGHT
TZOFFSETFROM:-0500
TZOFFSETTO:-0400
TZNAME:EDT
DTSTART:20230312T070000
END:DAYLIGHT
BEGIN:STANDARD
TZOFFSETFROM:-0400
TZOFFSETTO:-0500
TZNAME:EST
DTSTART:20231105T060000
END:STANDARD
END:VTIMEZONE
BEGIN:VEVENT
DTSTART;TZID=America/New_York:20220501T100000
DTEND;TZID=America/New_York:20220501T120000
DTSTAMP:20260423T201808
CREATED:20210317T125007Z
LAST-MODIFIED:20230212T022301Z
UID:1497-1651399200-1651406400@www.buffalobicyclingclub.com
SUMMARY:Sunday Series Race: Grand Island
DESCRIPTION:This event is a Buffalo Bicycling Club race. You must be a member to participate. To join\, click here. \n  \nParking:\nPark at Beaver Island State Park\, Lot #4 by the disk golf course (Lot located to the right after you pull in the main entrance). \n  \nCourse details:\nClick here for full details. The course is not closed to traffic. Rider’s must obey traffic laws. Yellow line rule strictly enforced. \n  \nSunday Series Individual Scoring:\nThis race is part of the club’s nine-race points series. There will be an ‘A’\, ‘B’\, and ‘Women’ field scored at each race. Points are awarded in each race by finishing place: \n1st = 12 points \n2nd = 9 points \n3rd = 7 points \n4th = 5 points \n5th = 4 points \n6th = 3 points \n7th = 2 points \n8th and on = 1 point for finishing. \nThere will be a *bonus 2 points* awarded to the “most aggressive” rider of each race. \n  \nRider’s best six of nine results will be used for the overall standings and the top three will be awarded at the end of season banquet. Note: Individual standings points are not awarded in the Team Time Trial (TTT) race. \n  \nSunday Series Team Scoring:\nThere will be team scoring in only the ‘A’ field. ALL ten races (includes TTT) count toward the team classification. There are no restrictions on the number of riders per team\, per race. The top three riders of each team will have their points totaled after each race for their team classification scoring. The overall winner will be awarded at the end of season banquet.
URL:https://www.buffalobicyclingclub.com/event/sunday-series-race-grand-island/
LOCATION:Grand Island\, 1510 E. River Rd.\, Grand Island\, NY\, 14072
ORGANIZER;CN="James Thompson":MAILTO:president@buffalobicycling.com
END:VEVENT
BEGIN:VEVENT
DTSTART;TZID=America/New_York:20220505T180000
DTEND;TZID=America/New_York:20220505T180000
DTSTAMP:20260423T201808
CREATED:20220204T201443Z
LAST-MODIFIED:20220502T175101Z
UID:1671-1651773600-1651773600@www.buffalobicyclingclub.com
SUMMARY:Learn to Race: Crit Clinic Week 1
DESCRIPTION:
URL:https://www.buffalobicyclingclub.com/event/learn-to-race-crit-clinic-week-1/
LOCATION:Shipyard\, 134-80 Ship Canal Pkwy\, Buffalo\, NY\, 14218
ORGANIZER;CN="James Thompson":MAILTO:president@buffalobicycling.com
END:VEVENT
BEGIN:VEVENT
DTSTART;TZID=America/New_York:20220508T100000
DTEND;TZID=America/New_York:20220508T120000
DTSTAMP:20260423T201808
CREATED:20210317T132934Z
LAST-MODIFIED:20220505T123628Z
UID:1515-1652004000-1652011200@www.buffalobicyclingclub.com
SUMMARY:Sunday Series Race: Pembroke
DESCRIPTION:This event is a Buffalo Bicycling Club race. You must be a member to participate. To join\, click here. \n  \nParking:\nPark on the street at 2248 Galloway Rd\, Batavia NY 14020. There will be a neutral roll out to the start/finish from the parking area. \n  \nCourse & Race Details:\nClick here for full details. The course is not closed to traffic. Rider’s must obey traffic laws. Yellow line rule strictly enforced. \n  \nSunday Series Individual Scoring:\nThis race is part of the club’s nine-race points series. There will be an ‘A’\, ‘B’\, and ‘Women’ field scored at each race. Points are awarded in each race by finishing place: \n1st = 15 points \n2nd = 12 points \n3rd = 10 points \n4th = 7 points \n5th = 5 points \n6th = 4 points \n7th = 3 points \n8th = 2 points \n9th and on = 1 point for finishing. \nThere will be a *bonus 2 points* awarded to the “most courageous” rider of each race. Typically awarded to the rider who attacks the most and/or spends the most time off the front of the race. \n  \nRider’s best six of nine results will be used for the overall standings and the top three will be awarded at the end of season banquet. Note: Individual standings points are not awarded in the Team Time Trial (TTT) race. \n  \nSunday Series Team Scoring:\nThere will be team scoring in only the ‘A’ field. ALL ten races (includes TTT) count toward the team classification. There are no restrictions on the number of riders per team\, per race. The top three riders of each team will have their points totaled after each race for their team classification scoring. The overall winner will be awarded at the end of season banquet.
URL:https://www.buffalobicyclingclub.com/event/sunday-series-race-pembroke/
LOCATION:Pembroke\, 2248 Galloway Rd\, Batavia\, NY\, 14020
ORGANIZER;CN="Tom%2C Race Director":MAILTO:rd@buffalobicycling.com
END:VEVENT
BEGIN:VEVENT
DTSTART;TZID=America/New_York:20220510T180000
DTEND;TZID=America/New_York:20220510T200000
DTSTAMP:20260423T201808
CREATED:20220204T201526Z
LAST-MODIFIED:20220510T004153Z
UID:1673-1652205600-1652212800@www.buffalobicyclingclub.com
SUMMARY:Learn to Race: Crit Clinic Week 2
DESCRIPTION:
URL:https://www.buffalobicyclingclub.com/event/learn-to-race-crit-clinic-week-2/
LOCATION:Shipyard\, 134-80 Ship Canal Pkwy\, Buffalo\, NY\, 14218
END:VEVENT
BEGIN:VEVENT
DTSTART;TZID=America/New_York:20220515T100000
DTEND;TZID=America/New_York:20220515T120000
DTSTAMP:20260423T201808
CREATED:20210317T131005Z
LAST-MODIFIED:20220505T123756Z
UID:1507-1652608800-1652616000@www.buffalobicyclingclub.com
SUMMARY:Sunday Series Race: Langford
DESCRIPTION:This event is a Buffalo Bicycling Club race. You must be a member to participate. To join\, click here. \n  \nParking:\nPark at the Town Of North Collins Highway Dept. 2982 Shirley Road North Collins\, NY 14111. There will be a neutral roll out to the start/finish from the parking area. \n  \nCourse & Race Details:\nClick here for full details. The course is not closed to traffic. Rider’s must obey traffic laws. Yellow line rule strictly enforced. \n  \nSunday Series Individual Scoring:\nThis race is part of the club’s nine-race points series. There will be an ‘A’\, ‘B’\, and ‘Women’ field scored at each race. Points are awarded in each race by finishing place: \n1st = 15 points \n2nd = 12 points \n3rd = 10 points \n4th = 7 points \n5th = 5 points \n6th = 4 points \n7th = 3 points \n8th = 2 points \n9th and on = 1 point for finishing. \nThere will be a *bonus 2 points* awarded to the “most courageous” rider of each race. Typically awarded to the rider who attacks the most and/or spends the most time off the front of the race. \n  \nRider’s best six of nine results will be used for the overall standings and the top three will be awarded at the end of season banquet. Note: Individual standings points are not awarded in the Team Time Trial (TTT) race. \n  \nSunday Series Team Scoring:\nThere will be team scoring in only the ‘A’ field. ALL ten races (includes TTT) count toward the team classification. There are no restrictions on the number of riders per team\, per race. The top three riders of each team will have their points totaled after each race for their team classification scoring. The overall winner will be awarded at the end of season banquet. \n 
URL:https://www.buffalobicyclingclub.com/event/sunday-series-langford/
LOCATION:Landford\, 2982 Shirley Road\, North Collins\, NY\, 14111
ORGANIZER;CN="Tom%2C Race Director":MAILTO:rd@buffalobicycling.com
END:VEVENT
BEGIN:VEVENT
DTSTART;TZID=America/New_York:20220517T180000
DTEND;TZID=America/New_York:20220517T200000
DTSTAMP:20260423T201808
CREATED:20220204T201617Z
LAST-MODIFIED:20220204T201617Z
UID:1675-1652810400-1652817600@www.buffalobicyclingclub.com
SUMMARY:Learn to Race: Crit Clinic Week 3
DESCRIPTION:
URL:https://www.buffalobicyclingclub.com/event/learn-to-race-crit-clinic-week-3/
END:VEVENT
BEGIN:VEVENT
DTSTART;TZID=America/New_York:20220522T100000
DTEND;TZID=America/New_York:20220522T120000
DTSTAMP:20260423T201808
CREATED:20210317T130350Z
LAST-MODIFIED:20220505T123826Z
UID:1503-1653213600-1653220800@www.buffalobicyclingclub.com
SUMMARY:Sunday Series Race: Marilla
DESCRIPTION:This event is a Buffalo Bicycling Club race. You must be a member to participate. To join\, click here. \n  \nParking:\nPark at the Marilla Town Park\, 2433 Eastwood Rd. East Aurora\, NY 14052. There will be a neutral rollout to the start/finish from the parking area. \n  \nCourse details:\nClick here for full details. The course is not closed to traffic. Rider’s must obey traffic laws. Yellow line rule strictly enforced. \n  \nSunday Series Individual Scoring:\nThis race is part of the club’s nine-race points series. There will be an ‘A’\, ‘B’\, and ‘Women’ field scored at each race. Points are awarded in each race by finishing place: \n1st = 15 points \n2nd = 12 points \n3rd = 10 points \n4th = 7 points \n5th = 5 points \n6th = 4 points \n7th = 3 points \n8th = 2 points \n9th and on = 1 point for finishing. \nThere will be a *bonus 2 points* awarded to the “most courageous” rider of each race. Typically awarded to the rider who attacks the most and/or spends the most time off the front of the race. \n  \nRider’s best six of nine results will be used for the overall standings and the top three will be awarded at the end of season banquet. Note: Individual standings points are not awarded in the Team Time Trial (TTT) race. \n  \nSunday Series Team Scoring:\nThere will be team scoring in only the ‘A’ field. ALL ten races (includes TTT) count toward the team classification. There are no restrictions on the number of riders per team\, per race. The top three riders of each team will have their points totaled after each race for their team classification scoring. The overall winner will be awarded at the end of season banquet. \n  \n 
URL:https://www.buffalobicyclingclub.com/event/sunday-series-race-marilla/
LOCATION:Marilla Town Park\, 2433 Eastwood Rd\, East Aurora\, NY\, 14052
ORGANIZER;CN="Tom%2C Race Director":MAILTO:rd@buffalobicycling.com
END:VEVENT
BEGIN:VEVENT
DTSTART;TZID=America/New_York:20220524T180000
DTEND;TZID=America/New_York:20220524T200000
DTSTAMP:20260423T201808
CREATED:20220204T201707Z
LAST-MODIFIED:20220518T141927Z
UID:1677-1653415200-1653422400@www.buffalobicyclingclub.com
SUMMARY:Learn to Race: Crit Clinic Week 4
DESCRIPTION:Parking: Ship Canal Commons Park
URL:https://www.buffalobicyclingclub.com/event/learn-to-race-crit-clinic-week-4/
LOCATION:Shipyard\, 134-80 Ship Canal Pkwy\, Buffalo\, NY\, 14218
END:VEVENT
BEGIN:VEVENT
DTSTART;VALUE=DATE:20220528
DTEND;VALUE=DATE:20220531
DTSTAMP:20260423T201808
CREATED:20220204T182255Z
LAST-MODIFIED:20220527T133654Z
UID:1651-1653696000-1653955199@www.buffalobicyclingclub.com
SUMMARY:Tour of Buffalo powered by Kanberra
DESCRIPTION:ToB is a USAC sanction stage race. Registration is on Bikereg. \nFull details can be found in the ToB- Tech Guide 2022 rev. 5.27.22.
URL:https://www.buffalobicyclingclub.com/event/tob/
ATTACH;FMTTYPE=image/png:https://www.buffalobicyclingclub.com/wp-content/uploads/2022/02/KANBERRA-SPORT-LOGO-2021-WHITE-1.png
ORGANIZER;CN="James Thompson":MAILTO:president@buffalobicycling.com
END:VEVENT
END:VCALENDAR